Workbook

Sheet DRE (2)
B2: =[2]BP!B2 -> Empresa de Pesquisa Energética - EPE
B3: =[2]BP!B3 -> CNPJ 06.977.747/0001-80
B4: Demonstração do Resultado em
B5: =[2]BP!B5 -> (em milhares de reais)
F7: Notas | G7: 45747 | I7: 30/09/2024 (Trimestre) | K7: 45382 | M7: 30/09/2023 (Trimestre)
B9: RECEITA LÍQUIDA | G9: 0 | I9: =G9 -> 0 | K9: 0 | M9: 0
B11: CUSTOS DOS SERVIÇOS PRESTADOS | F11: 22
B12: Remunerações, Encargos Sociais e Benefícios | D12: 4.1.1.01+4.1.1.02+4.1.1.03+4.1.3.01.0017 | G12: =SUM(-SUMIF('Balancete 06.2026'!C:C,4111,'Balancete 06.2026'!K:K),-SUMIF('Balancete 06.2026'!C:C,41110,'Balancete 06.2026'!K:K)-SUMIF('Balancete 06.2026'!C:C,413117,'Balancete 06.2026'!K:K)-SUMIF('Balancete 06.2026'!C:C,4112,'Balancete 06.2026'!K:K)-SUMIF('Balancete 06.2026'!C:C,4113,'Balancete 06.2026'!K:K)) -> -52716 | I12: =SUM(-SUMIF('Balancete trim'!B:B,4111,'Balancete trim'!J:J),-SUMIF('Balancete trim'!B:B,41110,'Balancete trim'!J:J),-SUMIF('Balancete trim'!B:B,413117,'Balancete trim'!J:J)) -> -18880 | K12: =-14413-4189-2340 -> -20942 | M12: -11169 | N12: =IF(AND(G12=0,K12=0),0,IF(K12=0,1,IF(G12=0,-1,(G12-K12)/K12))) -> 1.5172381
B13: Encargos Sociais | G13: 0 | I13: =-SUMIF('Balancete trim'!B:B,4112,'Balancete trim'!J:J) -> -5742 | K13: 0 | M13: -3303 | N13: =IF(AND(G13=0,K13=0),0,IF(K13=0,1,IF(G13=0,-1,(G13-K13)/K13))) -> 0
B14: Benefícios | G14: 0 | I14: =-SUMIF('Balancete trim'!B:B,4113,'Balancete trim'!J:J) -> -3005 | K14: 0 | M14: -1631 | N14: =IF(AND(G14=0,K14=0),0,IF(K14=0,1,IF(G14=0,-1,(G14-K14)/K14))) -> 0
B15: Materiais | G15: 0 | I15: =G15 -> 0 | K15: 0 | M15: 0 | N15: =IF(AND(G15=0,K15=0),0,IF(K15=0,1,IF(G15=0,-1,(G15-K15)/K15))) -> 0
B16: Serviços de Terceiros | D16: 4.1.3.01 | G16: =-SUMIF('Balancete 06.2026'!C:C,413,'Balancete 06.2026'!K:K)+SUMIF('Balancete 06.2026'!C:C,413117,'Balancete 06.2026'!K:K) -> -5048 | I16: =-SUMIF('Balancete trim'!B:B,413,'Balancete trim'!J:J)+SUMIF('Balancete trim'!B:B,413117,'Balancete trim'!J:J) -> -2577 | K16: -940 | M16: -1250 | N16: =IF(AND(G16=0,K16=0),0,IF(K16=0,1,IF(G16=0,-1,(G16-K16)/K16))) -> 4.3702128
B17: Gerais de Funcionamento das Instalações | D17: 4.1.6.01 | G17: =-SUMIF('Balancete 06.2026'!C:C,4161,'Balancete 06.2026'!K:K) -> -1292 | I17: =-SUMIF('Balancete trim'!B:B,4161,'Balancete trim'!J:J) -> -643 | K17: -631 | M17: =-1250+604 -> -646 | N17: =IF(AND(G17=0,K17=0),0,IF(K17=0,1,IF(G17=0,-1,(G17-K17)/K17))) -> 1.0475436
B18: Gerais da Administração | D18: 4.1.6.02 | G18: =-SUMIF('Balancete 06.2026'!C:C,4162,'Balancete 06.2026'!K:K) -> -2554 | I18: =-SUMIF('Balancete trim'!B:B,4162,'Balancete trim'!J:J) -> -1293 | K18: -817 | M18: -1240 | N18: =IF(AND(G18=0,K18=0),0,IF(K18=0,1,IF(G18=0,-1,(G18-K18)/K18))) -> 2.126071
B19: Impostos, Taxas e Contribuições | D19: 4.1.4 | G19: =-SUMIF('Balancete 06.2026'!C:C,4141,'Balancete 06.2026'!K:K) -> -186 | I19: =-SUMIF('Balancete trim'!B:B,4141,'Balancete trim'!J:J) -> -86 | K19: -100 | M19: -80 | N19: =IF(AND(G19=0,K19=0),0,IF(K19=0,1,IF(G19=0,-1,(G19-K19)/K19))) -> 0.86
G20: =SUM(G12:G19) -> -61796 | I20: =SUM(I12:I19) -> -32226 | K20: =SUM(K12:K19) -> -23430 | M20: =SUM(M12:M19) -> -19319
B22: RESULTADO BRUTO | G22: =+G9+G20 -> -61796 | I22: =+I9+I20 -> -32226 | K22: =K9+K20 -> -23430 | M22: =M9+M20 -> -19319
B24: DESPESAS OPERACIONAIS | F24: 22
B25: Remunerações, Encargos Sociais e Benefícios | D25: 4.2.1.01+4.2.1.02+4.2.1.03+4.2.3.01.0003+4.2.3.01.0017+4.2.3.01.0019 | G25: =-SUMIF('Balancete 06.2026'!C:C,4211,'Balancete 06.2026'!K:K)-SUMIF('Balancete 06.2026'!C:C,42313,'Balancete 06.2026'!K:K)-SUMIF('Balancete 06.2026'!C:C,423117,'Balancete 06.2026'!K:K)-SUMIF('Balancete 06.2026'!C:C,423119,'Balancete 06.2026'!K:K)-SUMIF('Balancete 06.2026'!C:C,4212,'Balancete 06.2026'!K:K)-SUMIF('Balancete 06.2026'!C:C,4213,'Balancete 06.2026'!K:K) -> -25070 | I25: =SUM(-SUMIF('Balancete trim'!B:B,4211,'Balancete trim'!J:J),-SUMIF('Balancete trim'!B:B,42313,'Balancete trim'!J:J),-SUMIF('Balancete trim'!B:B,423117,'Balancete trim'!J:J),-SUMIF('Balancete trim'!B:B,423119,'Balancete trim'!J:J)) -> -9092 | K25: =-5803-1563-1044 -> -8410 | M25: -4460 | N25: =IF(AND(G25=0,K25=0),0,IF(K25=0,1,IF(G25=0,-1,(G25-K25)/K25))) -> 1.980975
B26: Encargos Sociais | G26: 0 | I26: =-SUMIF('Balancete trim'!B:B,4212,'Balancete trim'!J:J) -> -2619 | K26: 0 | M26: -1310 | N26: =IF(AND(G26=0,K26=0),0,IF(K26=0,1,IF(G26=0,-1,(G26-K26)/K26))) -> 0
B27: Benefícios | G27: 0 | I27: =-SUMIF('Balancete trim'!B:B,4213,'Balancete trim'!J:J) -> -1385 | K27: 0 | M27: -708 | N27: =IF(AND(G27=0,K27=0),0,IF(K27=0,1,IF(G27=0,-1,(G27-K27)/K27))) -> 0
B28: Materiais | D28: 4.2.2 | G28: =-SUMIF('Balancete 06.2026'!C:C,422,'Balancete 06.2026'!K:K) -> -22 | I28: =-SUMIF('Balancete trim'!B:B,422,'Balancete trim'!J:J) -> -5 | K28: -5 | M28: -7 | N28: =IF(AND(G28=0,K28=0),0,IF(K28=0,1,IF(G28=0,-1,(G28-K28)/K28))) -> 3.4
B29: Serviços de Terceiros | D29: 4.2.3.01 | G29: =-SUMIF('Balancete 06.2026'!C:C,423,'Balancete 06.2026'!K:K)+SUMIF('Balancete 06.2026'!C:C,42313,'Balancete 06.2026'!K:K)+SUMIF('Balancete 06.2026'!C:C,423117,'Balancete 06.2026'!K:K)+SUMIF('Balancete 06.2026'!C:C,423119,'Balancete 06.2026'!K:K) -> -4300 | I29: =-SUMIF('Balancete trim'!B:B,423,'Balancete trim'!J:J)+SUMIF('Balancete trim'!B:B,42313,'Balancete trim'!J:J)+SUMIF('Balancete trim'!B:B,423117,'Balancete trim'!J:J)+SUMIF('Balancete trim'!B:B,423119,'Balancete trim'!J:J)-SUMIF('Balancete trim'!B:B,33213,'Balancete trim'!J:J) -> -2499 | K29: -1567 | M29: -1559 | N29: =IF(AND(G29=0,K29=0),0,IF(K29=0,1,IF(G29=0,-1,(G29-K29)/K29))) -> 1.744097
B30: Impostos, Taxas e Contribuições | D30: 4.2.4 | G30: =-SUMIF('Balancete 06.2026'!C:C,424,'Balancete 06.2026'!K:K) -> -454 | I30: =-SUMIF('Balancete trim'!B:B,424,'Balancete trim'!J:J) -> -113 | K30: -913 | M30: -282 | N30: =IF(AND(G30=0,K30=0),0,IF(K30=0,1,IF(G30=0,-1,(G30-K30)/K30))) -> -0.50273823
B31: Gerais de Funcionamento das Instalações | D31: 4.2.6.01 | G31: =-SUMIF('Balancete 06.2026'!C:C,4261,'Balancete 06.2026'!K:K)-SUMIF('Balancete 06.2026'!C:C,42994,'Balancete 06.2026'!K:K) -> -3281 | I31: =-SUMIF('Balancete trim'!B:B,4261,'Balancete trim'!J:J)-SUMIF('Balancete trim'!B:B,42994,'Balancete trim'!J:J) -> -1647 | K31: -1714 | M31: =-1322+250-681 -> -1753 | N31: =IF(AND(G31=0,K31=0),0,IF(K31=0,1,IF(G31=0,-1,(G31-K31)/K31))) -> 0.91423571
B32: Gerais da Administração | D32: 4.2.6.02 | G32: =-SUMIF('Balancete 06.2026'!C:C,4262,'Balancete 06.2026'!K:K) -> -2427 | I32: =-SUMIF('Balancete trim'!B:B,4262,'Balancete trim'!J:J) -> -1256 | K32: -583 | M32: -812 | N32: =IF(AND(G32=0,K32=0),0,IF(K32=0,1,IF(G32=0,-1,(G32-K32)/K32))) -> 3.1629503
B33: Provisão para Contigências | G33: =-SUMIF('Balancete 06.2026'!C:C,42541,'Balancete 06.2026'!K:K)-SUMIF('Balancete 06.2026'!C:C,42811,'Balancete 06.2026'!K:K) -> 0 | I33: =-SUMIF('Balancete trim'!B:B,3361,'Balancete trim'!J:J)-SUMIF('Balancete trim'!B:B,42541,'Balancete trim'!J:J)-SUMIF('Balancete trim'!B:B,42811,'Balancete trim'!J:J) -> 3112 | K33: 0 | M33: 12 | N33: =IF(AND(G33=0,K33=0),0,IF(K33=0,1,IF(G33=0,-1,(G33-K33)/K33))) -> 0
G34: =SUM(G25:G33) -> -35554 | I34: =SUM(I25:I33) -> -15504 | K34: =SUM(K25:K33) -> -13192 | M34: =SUM(M25:M33) -> -10879
B36: OUTRAS RECEITAS OPERACIONAIS
B37: Recursos Recebidos do Tesouro Nacional | D37: 3.1.1.01 | F37: 23 | G37: =-SUMIF('Balancete 06.2026'!C:C,311,'Balancete 06.2026'!K:K) -> 75966 | I37: =-SUMIF('Balancete trim'!B:B,311,'Balancete trim'!J:J) -> 32704 | K37: 38281 | M37: 27759 | N37: =IF(AND(G37=0,K37=0),0,IF(K37=0,1,IF(G37=0,-1,(G37-K37)/K37))) -> 0.98443092
B38: Reembolso de Custos e Despesas - Leilões ANEEL | F38: 24 | G38: =-SUMIF('Balancete 06.2026'!C:C,33212,'Balancete 06.2026'!K:K) -> 3818 | I38: =-SUMIF('Balancete trim'!B:B,33212,'Balancete trim'!J:J) -> 671 | K38: 6851 | M38: 2238 | N38: =IF(AND(G38=0,K38=0),0,IF(K38=0,1,IF(G38=0,-1,(G38-K38)/K38))) -> -0.44270909
B39: Reversão de Provisões para Contingências | D39: 3.3.6 | G39: =-SUMIF('Balancete 06.2026'!C:C,3361,'Balancete 06.2026'!K:K) -> 3112 | I39: 0 | K39: 213 | M39: 0 | N39: =IF(AND(G39=0,K39=0),0,IF(K39=0,1,IF(G39=0,-1,(G39-K39)/K39))) -> 13.610329
B40: Outras receitas | G40: =-SUMIF('Balancete 06.2026'!C:C,33991,'Balancete 06.2026'!K:K)-SUMIF('Balancete 06.2026'!C:C,33910,'Balancete 06.2026'!K:K) -> 0 | I40: =-SUMIF('Balancete trim'!B:B,33991,'Balancete trim'!J:J) -> 0 | K40: 0 | M40: =-SUMIF('Balancete trim 2023'!B:B,33991,'Balancete trim 2023'!J:J) -> 0 | N40: =IF(AND(G40=0,K40=0),0,IF(K40=0,1,IF(G40=0,-1,(G40-K40)/K40))) -> 0
G41: =SUM(G37:G40) -> 82896 | I41: =SUM(I37:I40) -> 33375 | K41: =SUM(K37:K40) -> 45345 | M41: =SUM(M37:M40) -> 29997
B43: RESULTADO ANTES DAS RECEITAS E DESPESAS FINANCEIRAS | G43: =G41+G34+G22 -> -14454 | I43: =I41+I34+I22 -> -14355 | K43: =K41+K34+K22 -> 8723 | M43: =M41+M34+M22 -> -201
B45: Receitas Financeiras | D45: 3.3.1 | F45: 25 | G45: =-SUMIF('Balancete 06.2026'!C:C,331,'Balancete 06.2026'!K:K) -> 539 | I45: =-SUMIF('Balancete trim'!B:B,331,'Balancete trim'!J:J) -> 253 | K45: 354 | M45: 189 | N45: =IF(AND(G45=0,K45=0),0,IF(K45=0,1,IF(G45=0,-1,(G45-K45)/K45))) -> 0.52259887
B46: Despesas Financeiras | D46: 4.2.7 | F46: 25 | G46: =-SUMIF('Balancete 06.2026'!C:C,427,'Balancete 06.2026'!K:K) -> -766 | I46: =-SUMIF('Balancete trim'!B:B,427,'Balancete trim'!J:J) -> -439 | K46: -569 | M46: -945 | N46: =IF(AND(G46=0,K46=0),0,IF(K46=0,1,IF(G46=0,-1,(G46-K46)/K46))) -> 0.34622144
G48: =SUM(G45:G47) -> -227 | I48: =SUM(I45:I47) -> -186 | K48: =SUM(K45:K47) -> -215 | M48: =SUM(M45:M47) -> -756
B50: LUCRO ANTES DO IRPJ E DA CSLL | G50: =+G43+G48 -> -14681 | I50: =+I43+I48 -> -14541 | K50: =+K43+K48 -> 8508 | M50: =+M43+M48 -> -957
B52: IRPJ/CSLL correntes | F52: 26 | G52: =SUM(-SUMIF('Balancete 06.2026'!C:C,4251,'Balancete 06.2026'!K:K),-SUMIF('Balancete 06.2026'!C:C,4252,'Balancete 06.2026'!K:K)) -> -6 | I52: =-SUMIF('Balancete trim'!B:B,4251,'Balancete trim'!J:J)-SUMIF('Balancete trim'!B:B,4252,'Balancete trim'!J:J) -> 0 | K52: -1989 | M52: 120
...

Sheet BP
B2: Empresa de Pesquisa Energética - EPE
B3: CNPJ 06.977.747/0001-80
B4: Balanço Patrimonial
B5: (em milhares de reais) | N5: DFC
C7: Notas | F7: 46203 | H7: 46022 | J7: 45838 | L7: 45657 | P7: variações
B8: ATIVO
B10: Circulante
B11: Caixa e Equivalentes de Caixa | C11: 5 | D11: 1.1.1.02 | F11: =SUMIF('Balancete 06.2026'!C:C,1112,'Balancete 06.2026'!K:K) -> 33419 | H11: 44517 | J11: 51043 | L11: 44468 | N11: =H11-F11 -> 11098 | O11: =L11-J11 -> -6575 | P11: =IF(AND(F11=0,H11=0),0,IF(H11=0,1,IF(F11=0,-1,(F11-H11)/H11))) -> -0.24929802
B12: Impostos a Recuperar | C12: 6 | D12: 1.1.2.03 | F12: =SUMIF('Balancete 06.2026'!C:C,1123,'Balancete 06.2026'!K:K) -> 262 | H12: 1110 | J12: 1056 | L12: 1926 | N12: =H12-F12 -> 848 | O12: =L12-J12 -> 870 | P12: =IF(AND(F12=0,H12=0),0,IF(H12=0,1,IF(F12=0,-1,(F12-H12)/H12))) -> -0.76396396
B13: Adiantamentos Concedidos | C13: 7 | D13: 1.1.2.04 | F13: =SUM(SUMIF('Balancete 06.2026'!C:C,1124,'Balancete 06.2026'!K:K),SUMIF('Balancete 06.2026'!C:C,1129,'Balancete 06.2026'!K:K),SUMIF('Balancete 06.2026'!C:C,1125,'Balancete 06.2026'!K:K)) -> 4312 | H13: 634 | J13: 3677 | L13: 773 | N13: =H13-F13 -> -3678 | O13: =L13-J13 -> -2904 | P13: =IF(AND(F13=0,H13=0),0,IF(H13=0,1,IF(F13=0,-1,(F13-H13)/H13))) -> 5.8012618
B14: Despesas antecipadas | C14: 8 | D14: 1.1.3 | F14: =SUMIF('Balancete 06.2026'!C:C,113,'Balancete 06.2026'!K:K) -> 4652 | H14: 7810 | J14: 3986 | L14: 4762 | N14: =H14-F14 -> 3158 | O14: =L14-J14 -> 776 | P14: =IF(AND(F14=0,H14=0),0,IF(H14=0,1,IF(F14=0,-1,(F14-H14)/H14))) -> -0.40435339
B15: Outros ativos | F15: =SUMIF('Balancete 06.2026'!C:C,11299,'Balancete 06.2026'!K:K) -> 107 | H15: 0 | J15: 0 | L15: 0 | N15: =H15-F15 -> -107 | O15: =L15-J15 -> 0 | P15: =IF(AND(F15=0,H15=0),0,IF(H15=0,1,IF(F15=0,-1,(F15-H15)/H15))) -> 1
F16: =SUM(F11:F15) -> 42752 | H16: =SUM(H11:H15) -> 54071 | J16: =SUM(J11:J15) -> 59762 | L16: =SUM(L11:L15) -> 51929
B18: Não Circulante
B19: Impostos a Recuperar | C19: 6 | D19: 1.2.1.03 | F19: =SUMIF('Balancete 06.2026'!C:C,1213,'Balancete 06.2026'!K:K) -> 3684 | H19: 3011 | J19: 2861 | L19: 1553 | N19: =H19-F19 -> -673 | O19: =L19-J19 -> -1308 | P19: =IF(AND(F19=0,H19=0),0,IF(H19=0,1,IF(F19=0,-1,(F19-H19)/H19))) -> 0.22351378
B20: Depósitos Judiciais | C20: 9 | D20: 1.2.1.08 | F20: =SUMIF('Balancete 06.2026'!C:C,1218,'Balancete 06.2026'!K:K) -> 6817 | H20: 5272 | J20: 5889 | L20: 6758 | N20: =H20-F20 -> -1545 | O20: =L20-J20 -> 869 | P20: =IF(AND(F20=0,H20=0),0,IF(H20=0,1,IF(F20=0,-1,(F20-H20)/H20))) -> 0.29305766
B21: Despesas Antecipadas | C21: 7 | F21: =SUMIF('Balancete 06.2026'!C:C,1216,'Balancete 06.2026'!I:I) -> 0 | H21: 0 | J21: 0 | L21: 0 | N21: =H21-F21 -> 0 | O21: =L21-J21 -> 0
B22: Imobilizado | C22: 10 | D22: 1.2.3 | F22: =SUMIF('Balancete 06.2026'!C:C,123,'Balancete 06.2026'!K:K) -> 5527 | H22: 5869 | J22: 5839 | L22: 6128 | N22: =H22-F22 -> 342 | O22: =L22-J22 -> 289 | P22: =IF(AND(F22=0,H22=0),0,IF(H22=0,1,IF(F22=0,-1,(F22-H22)/H22))) -> -0.058272278
B23: Direito de uso | C23: 11 | D23: 1.2.5 | F23: =SUMIF('Balancete 06.2026'!C:C,125,'Balancete 06.2026'!K:K) -> 11821 | H23: 13299 | J23: 13964 | L23: 15360 | N23: =H23-F23 -> 1478 | O23: =L23-J23 -> 1396 | P23: =IF(AND(F23=0,H23=0),0,IF(H23=0,1,IF(F23=0,-1,(F23-H23)/H23))) -> -0.11113618
B24: Intangível | C24: 12 | D24: 1.2.4 | F24: =SUMIF('Balancete 06.2026'!C:C,124,'Balancete 06.2026'!K:K) -> 1705 | H24: 1184 | J24: 1560 | L24: 2064 | N24: =H24-F24 -> -521 | O24: =L24-J24 -> 504 | P24: =IF(AND(F24=0,H24=0),0,IF(H24=0,1,IF(F24=0,-1,(F24-H24)/H24))) -> 0.44003378
F25: =SUM(F19:F24) -> 29554 | H25: =SUM(H19:H24) -> 28635 | J25: =SUM(J19:J24) -> 30113 | L25: =SUM(L19:L24) -> 31863
B28: TOTAL DO ATIVO | F28: =F16+F25 -> 72306 | H28: =H16+H25 -> 82706 | J28: =J16+J25 -> 89875 | L28: =L16+L25 -> 83792
B30: PASSIVO E PATRIMÔNIO LÍQUIDO
B31: Circulante
B32: Fornecedores | C32: 13 | D32: ='[1]Balancete 03.2025'!A84 -> 2.1.1.04 | F32: =-SUMIF('Balancete 06.2026'!C:C,2114,'Balancete 06.2026'!K:K) -> 1165 | H32: 196 | J32: 1019 | L32: 361 | N32: =F32-H32 -> 969 | O32: =J32-L32 -> 658 | P32: =IF(AND(F32=0,H32=0),0,IF(H32=0,1,IF(F32=0,-1,(F32-H32)/H32))) -> 4.9438776
B33: Obrigações Tributárias | C33: 14 | D33: 2.1.1.06+2.1.1.07 | F33: =-SUM(SUMIF('Balancete 06.2026'!C:C,2116,'Balancete 06.2026'!K:K),SUMIF('Balancete 06.2026'!C:C,2117,'Balancete 06.2026'!K:K)) -> 3174 | H33: 5289 | J33: 2737 | L33: 4093 | N33: =F33-H33 -> -2115 | O33: =J33-L33 -> -1356 | P33: =IF(AND(F33=0,H33=0),0,IF(H33=0,1,IF(F33=0,-1,(F33-H33)/H33))) -> -0.39988656
B34: Obrigações Trabalhistas e Sociais | C34: 15 | D34: 2.1.1.08.0001+2.1.1.08.0002+2.1.1.08.0003+2.1.1.08.0004+2.1.1.08.0005+2.1.1.08.0010+2.1.1.08.0011+2.1.1.08.0012+2.1.1.08.0013 | F34: =-SUM(SUMIF('Balancete 06.2026'!C:C,2118,'Balancete 06.2026'!K:K),-SUMIF('Balancete 06.2026'!C:C,21189,'Balancete 06.2026'!K:K),)-SUMIF('Balancete 06.2026'!C:C,211920,'Balancete 06.2026'!K:K) -> 31903 | H34: 25015 | J34: 27121 | L34: 17894 | N34: =F34-H34 -> 6888 | O34: =J34-L34 -> 9227 | P34: =IF(AND(F34=0,H34=0),0,IF(H34=0,1,IF(F34=0,-1,(F34-H34)/H34))) -> 0.27535479
B35: Provisões para Contingências | C35: 15 | F35: =-SUMIF('Balancete 06.2026'!C:C,211110,'Balancete 06.2026'!K:K) -> 0 | H35: 0 | J35: 0 | L35: 0 | N35: =F35-H35 -> 0 | O35: =J35-L35 -> 0
B36: Obrigações com a Cessão de Pessoal | D36: 2.1.1.14 | F36: =-SUMIF('Balancete 06.2026'!C:C,21114,'Balancete 06.2026'!K:K)-SUMIF('Balancete 06.2026'!C:C,21199,'Balancete 06.2026'!K:K) -> 68 | H36: 67 | J36: 98 | L36: 97 | N36: =F36-H36 -> 1 | O36: =J36-L36 -> 1 | P36: =IF(AND(F36=0,H36=0),0,IF(H36=0,1,IF(F36=0,-1,(F36-H36)/H36))) -> 0.014925373
B37: Previdência Privada Complementar | C37: 17 | D37: 2.1.1.08.0009+2.1.1.15 | F37: =-SUM(SUMIF('Balancete 06.2026'!C:C,21115,'Balancete 06.2026'!K:K),SUMIF('Balancete 06.2026'!C:C,21189,'Balancete 06.2026'!K:K)) -> 1060 | H37: 0 | J37: 923 | L37: 822 | N37: =F37-H37 -> 1060 | O37: =J37-L37 -> 101 | P37: =IF(AND(F37=0,H37=0),0,IF(H37=0,1,IF(F37=0,-1,(F37-H37)/H37))) -> 1
B38: Arrendamento | C38: 11 | D38: 2.1.1.16 | F38: =-SUM(SUMIF('Balancete 06.2026'!C:C,21116,'Balancete 06.2026'!K:K)) -> 3135 | H38: 3059 | J38: 2838 | L38: 2770 | N38: =F38-H38 -> 76 | O38: =J38-L38 -> 68 | P38: =IF(AND(F38=0,H38=0),0,IF(H38=0,1,IF(F38=0,-1,(F38-H38)/H38))) -> 0.02484472
F39: =SUM(F32:F38) -> 40505 | H39: =SUM(H32:H38) -> 33626 | J39: =SUM(J32:J38) -> 34736 | L39: =SUM(L32:L38) -> 26037
B41: Não Circulante
B42: Provisões para Contingências | C42: 16 | D42: 2.2.1.05 | F42: =-SUMIF('Balancete 06.2026'!C:C,2215,'Balancete 06.2026'!K:K) -> 9750 | H42: 12448 | J42: 10665 | L42: 11864 | N42: =F42-H42 -> -2698 | O42: =J42-L42 -> -1199 | P42: =IF(AND(F42=0,H42=0),0,IF(H42=0,1,IF(F42=0,-1,(F42-H42)/H42))) -> -0.21674165
B43: Arrendamento | C43: 11 | D43: 2.2.1.08 | F43: =-SUMIF('Balancete 06.2026'!C:C,2218,'Balancete 06.2026'!K:K) -> 10376 | H43: 11962 | J43: 12845 | L43: 14281 | N43: =F43-H43 -> -1586 | O43: =J43-L43 -> -1436 | P43: =IF(AND(F43=0,H43=0),0,IF(H43=0,1,IF(F43=0,-1,(F43-H43)/H43))) -> -0.13258652
F44: =SUM(F42:F43) -> 20126 | H44: =SUM(H42:H43) -> 24410 | J44: =SUM(J42:J43) -> 23510 | L44: =SUM(L42:L43) -> 26145
B46: Patrimônio Liquido
B47: Capital Social | C47: 18 | D47: 2.4.1 | F47: =-SUMIF('Balancete 06.2026'!C:C,241,'Balancete 06.2026'!K:K) -> 36154 | H47: 34444 | J47: 34444 | L47: 31458 | N47: =F47-H47 -> 1710 | O47: =J47-L47 -> 2986 | P47: =IF(AND(F47=0,H47=0),0,IF(H47=0,1,IF(F47=0,-1,(F47-H47)/H47))) -> 0.049645802
B48: Reserva Legal | F48: 0 | H48: 0 | J48: 0 | L48: 0 | N48: =F48-H48 -> 0 | O48: =J48-L48 -> 0
B49: Adiant. para Futuro Aumento de Capital | C49: 19 | D49: 2.4.7 | F49: =-SUMIF('Balancete 06.2026'!C:C,247,'Balancete 06.2026'!K:K) -> 1687 | H49: 1711 | J49: 695 | L49: 2986 | N49: =F49-H49 -> -24 | O49: =J49-L49 -> -2291 | P49: =IF(AND(F49=0,H49=0),0,IF(H49=0,1,IF(F49=0,-1,(F49-H49)/H49))) -> -0.014026885
...

Sheet DRE
B2: =[2]BP!B2 -> Empresa de Pesquisa Energética - EPE
B3: =[2]BP!B3 -> CNPJ 06.977.747/0001-80
B4: Demonstração do Resultado
B5: (em milhares de reais)
F7: Notas | G7: 01/01/2026 a 30/06/2026 (Acumulado) | I7: 01/04/2026 a 30/06/2026 (Trimestre) | K7: 01/01/2025 a 30/06/2025 (Acumulado) | M7: 01/04/2025 a 30/06/2025 (Trimestre)
B9: RECEITA LÍQUIDA | G9: 0 | I9: 0 | K9: 0 | M9: 0
B11: CUSTOS DOS SERVIÇOS PRESTADOS | F11: 22
B12: Remunerações, Encargos Sociais e Benefícios | D12: 4.1.1.01+4.1.1.02+4.1.1.03+4.1.3.01.0017 | G12: =SUM(-SUMIF('Balancete 06.2026'!C:C,4111,'Balancete 06.2026'!K:K),-SUMIF('Balancete 06.2026'!C:C,41110,'Balancete 06.2026'!K:K)-SUMIF('Balancete 06.2026'!C:C,413117,'Balancete 06.2026'!K:K)-SUMIF('Balancete 06.2026'!C:C,4112,'Balancete 06.2026'!K:K)-SUMIF('Balancete 06.2026'!C:C,4113,'Balancete 06.2026'!K:K)) -> -52716 | I12: =SUM(-SUMIF('Balancete trim'!B:B,4111,'Balancete trim'!J:J),-SUMIF('Balancete trim'!B:B,41110,'Balancete trim'!J:J),-SUMIF('Balancete trim'!B:B,413117,'Balancete trim'!J:J),-SUMIF('Balancete trim'!B:B,4112,'Balancete trim'!J:J),-SUMIF('Balancete trim'!B:B,4113,'Balancete trim'!J:J)) -> -27627 | K12: -49010 | M12: -24557 | N12: =IF(AND(G12=0,K12=0),0,IF(K12=0,1,IF(G12=0,-1,(G12-K12)/K12))) -> 0.075617221
B13: Encargos Sociais | G13: 0 | I13: 0 | K13: 0 | M13: 0 | N13: =IF(AND(G13=0,K13=0),0,IF(K13=0,1,IF(G13=0,-1,(G13-K13)/K13))) -> 0
B14: Benefícios | G14: 0 | I14: 0 | K14: 0 | M14: 0 | N14: =IF(AND(G14=0,K14=0),0,IF(K14=0,1,IF(G14=0,-1,(G14-K14)/K14))) -> 0
B15: Materiais | G15: 0 | I15: =G15 -> 0 | K15: 0 | M15: 0 | N15: =IF(AND(G15=0,K15=0),0,IF(K15=0,1,IF(G15=0,-1,(G15-K15)/K15))) -> 0
B16: Serviços de Terceiros | D16: 4.1.3.01 | G16: =-SUMIF('Balancete 06.2026'!C:C,413,'Balancete 06.2026'!K:K)+SUMIF('Balancete 06.2026'!C:C,413117,'Balancete 06.2026'!K:K) -> -5048 | I16: =-SUMIF('Balancete trim'!B:B,413,'Balancete trim'!J:J)+SUMIF('Balancete trim'!B:B,413117,'Balancete trim'!J:J) -> -2577 | K16: -3630 | M16: -1331 | N16: =IF(AND(G16=0,K16=0),0,IF(K16=0,1,IF(G16=0,-1,(G16-K16)/K16))) -> 0.39063361
B17: Gerais de Funcionamento das Instalações | D17: 4.1.6.01 | G17: =-SUMIF('Balancete 06.2026'!C:C,4161,'Balancete 06.2026'!K:K) -> -1292 | I17: =-SUMIF('Balancete trim'!B:B,4161,'Balancete trim'!J:J) -> -643 | K17: -1369 | M17: -675 | N17: =IF(AND(G17=0,K17=0),0,IF(K17=0,1,IF(G17=0,-1,(G17-K17)/K17))) -> -0.056245435
B18: Gerais da Administração | D18: 4.1.6.02 | G18: =-SUMIF('Balancete 06.2026'!C:C,4162,'Balancete 06.2026'!K:K) -> -2554 | I18: =-SUMIF('Balancete trim'!B:B,4162,'Balancete trim'!J:J) -> -1293 | K18: -1457 | M18: -672 | N18: =IF(AND(G18=0,K18=0),0,IF(K18=0,1,IF(G18=0,-1,(G18-K18)/K18))) -> 0.75291695
B19: Impostos, Taxas e Contribuições | D19: 4.1.4 | G19: =-SUMIF('Balancete 06.2026'!C:C,4141,'Balancete 06.2026'!K:K) -> -186 | I19: =-SUMIF('Balancete trim'!B:B,4141,'Balancete trim'!J:J) -> -86 | K19: -189 | M19: -88 | N19: =IF(AND(G19=0,K19=0),0,IF(K19=0,1,IF(G19=0,-1,(G19-K19)/K19))) -> -0.015873016
G20: =SUM(G12:G19) -> -61796 | I20: =SUM(I12:I19) -> -32226 | K20: =SUM(K12:K19) -> -55655 | M20: =SUM(M12:M19) -> -27323
B22: RESULTADO BRUTO | G22: =G9+G20 -> -61796 | I22: =I20+I9 -> -32226 | K22: =K9+K20 -> -55655 | M22: =M9+M20 -> -27323
B24: DESPESAS OPERACIONAIS | F24: 22
B25: Remunerações, Encargos Sociais e Benefícios | D25: 4.2.1.01+4.2.1.02+4.2.1.03+4.2.3.01.0003+4.2.3.01.0017+4.2.3.01.0019 | G25: =-SUMIF('Balancete 06.2026'!C:C,4211,'Balancete 06.2026'!K:K)-SUMIF('Balancete 06.2026'!C:C,42313,'Balancete 06.2026'!K:K)-SUMIF('Balancete 06.2026'!C:C,423117,'Balancete 06.2026'!K:K)-SUMIF('Balancete 06.2026'!C:C,423119,'Balancete 06.2026'!K:K)-SUMIF('Balancete 06.2026'!C:C,4212,'Balancete 06.2026'!K:K)-SUMIF('Balancete 06.2026'!C:C,4213,'Balancete 06.2026'!K:K) -> -25070 | I25: =SUM(-SUMIF('Balancete trim'!B:B,4211,'Balancete trim'!J:J),-SUMIF('Balancete trim'!B:B,42313,'Balancete trim'!J:J),-SUMIF('Balancete trim'!B:B,423117,'Balancete trim'!J:J),-SUMIF('Balancete trim'!B:B,423119,'Balancete trim'!J:J)-SUMIF('Balancete trim'!B:B,4212,'Balancete trim'!J:J)-SUMIF('Balancete trim'!B:B,4213,'Balancete trim'!J:J)) -> -13096 | K25: -22778 | M25: -11292 | N25: =IF(AND(G25=0,K25=0),0,IF(K25=0,1,IF(G25=0,-1,(G25-K25)/K25))) -> 0.10062341
B26: Encargos Sociais | G26: 0 | I26: 0 | K26: 0 | M26: 0 | N26: =IF(AND(G26=0,K26=0),0,IF(K26=0,1,IF(G26=0,-1,(G26-K26)/K26))) -> 0
B27: Benefícios | G27: 0 | I27: 0 | K27: 0 | M27: 0 | N27: =IF(AND(G27=0,K27=0),0,IF(K27=0,1,IF(G27=0,-1,(G27-K27)/K27))) -> 0
B28: Materiais | D28: 4.2.2 | G28: =-SUMIF('Balancete 06.2026'!C:C,422,'Balancete 06.2026'!K:K) -> -22 | I28: =-SUMIF('Balancete trim'!B:B,422,'Balancete trim'!J:J) -> -5 | K28: -48 | M28: -2 | N28: =IF(AND(G28=0,K28=0),0,IF(K28=0,1,IF(G28=0,-1,(G28-K28)/K28))) -> -0.54166667
B29: Serviços de Terceiros | D29: 4.2.3.01 | G29: =-SUMIF('Balancete 06.2026'!C:C,423,'Balancete 06.2026'!K:K)+SUMIF('Balancete 06.2026'!C:C,42313,'Balancete 06.2026'!K:K)+SUMIF('Balancete 06.2026'!C:C,423117,'Balancete 06.2026'!K:K)+SUMIF('Balancete 06.2026'!C:C,423119,'Balancete 06.2026'!K:K)-SUMIF('Balancete 06.2026'!C:C,33213,'Balancete 06.2026'!K:K) -> -4294 | I29: =-SUMIF('Balancete trim'!B:B,423,'Balancete trim'!J:J)+SUMIF('Balancete trim'!B:B,42313,'Balancete trim'!J:J)+SUMIF('Balancete trim'!B:B,423117,'Balancete trim'!J:J)+SUMIF('Balancete trim'!B:B,423119,'Balancete trim'!J:J)-SUMIF('Balancete trim'!B:B,33213,'Balancete trim'!J:J) -> -2499 | K29: -3393 | M29: -1958 | N29: =IF(AND(G29=0,K29=0),0,IF(K29=0,1,IF(G29=0,-1,(G29-K29)/K29))) -> 0.26554671
B30: Gerais de Funcionamento das Instalações | D30: 4.2.6.01 | G30: =-SUMIF('Balancete 06.2026'!C:C,4261,'Balancete 06.2026'!K:K)-SUMIF('Balancete 06.2026'!C:C,42994,'Balancete 06.2026'!K:K) -> -3281 | I30: =-SUMIF('Balancete trim'!B:B,4261,'Balancete trim'!J:J)-SUMIF('Balancete trim'!B:B,42994,'Balancete trim'!J:J) -> -1647 | K30: -3430 | M30: -1707 | N30: =IF(AND(G30=0,K30=0),0,IF(K30=0,1,IF(G30=0,-1,(G30-K30)/K30))) -> -0.043440233
B31: Gerais da Administração | D31: 4.2.6.02 | G31: =-SUMIF('Balancete 06.2026'!C:C,4262,'Balancete 06.2026'!K:K) -> -2427 | I31: =-SUMIF('Balancete trim'!B:B,4262,'Balancete trim'!J:J) -> -1256 | K31: -1250 | M31: -617 | N31: =IF(AND(G31=0,K31=0),0,IF(K31=0,1,IF(G31=0,-1,(G31-K31)/K31))) -> 0.9416
B32: Impostos, Taxas e Contribuições | D32: 4.2.4 | G32: =-SUMIF('Balancete 06.2026'!C:C,424,'Balancete 06.2026'!K:K) -> -454 | I32: =-SUMIF('Balancete trim'!B:B,424,'Balancete trim'!J:J) -> -113 | K32: -103 | M32: -48 | N32: =IF(AND(G32=0,K32=0),0,IF(K32=0,1,IF(G32=0,-1,(G32-K32)/K32))) -> 3.407767
B33: Indenização e provisão de Contingências | G33: =-SUMIF('Balancete 06.2026'!C:C,42541,'Balancete 06.2026'!K:K) -> 0 | I33: =-SUMIF('Balancete trim'!B:B,42541,'Balancete trim'!J:J) -> 0 | K33: 0 | M33: 0
G34: =SUM(G25:G33) -> -35548 | I34: =SUM(I25:I33) -> -18616 | K34: =SUM(K25:K33) -> -31002 | M34: =SUM(M25:M33) -> -15624
B36: OUTRAS RECEITAS OPERACIONAIS
B37: Recursos Recebidos do Tesouro Nacional | F37: 23 | G37: =-SUMIF('Balancete 06.2026'!C:C,311,'Balancete 06.2026'!K:K) -> 75966 | I37: =-SUMIF('Balancete trim'!B:B,311,'Balancete trim'!J:J) -> 32704 | K37: 85919 | M37: 43033
B38: Reembolso de Custos e Despesas - Leilões ANEEL | F38: 24 | G38: =-SUMIF('Balancete 06.2026'!C:C,33212,'Balancete 06.2026'!K:K) -> 3818 | I38: =-SUMIF('Balancete trim'!B:B,33212,'Balancete trim'!J:J) -> 671 | K38: 0 | M38: 0 | N38: =IF(AND(G38=0,K38=0),0,IF(K38=0,1,IF(G38=0,-1,(G38-K38)/K38))) -> 1
B39: Reversão de Provisões para Contingências | D39: 3.3.6 | G39: =-SUMIF('Balancete 06.2026'!C:C,3361,'Balancete 06.2026'!K:K)-SUMIF('Balancete 06.2026'!C:C,33910,'Balancete 06.2026'!K:K) -> 3112 | I39: =-SUMIF('Balancete trim'!B:B,3361,'Balancete trim'!J:J) -> 3112 | K39: 473 | M39: 1 | N39: =IF(AND(G39=0,K39=0),0,IF(K39=0,1,IF(G39=0,-1,(G39-K39)/K39))) -> 5.5792812
B40: Outras receitas | G40: 0 | I40: 0 | K40: 0 | M40: =-SUMIF('Balancete trim 2023'!B:B,33991,'Balancete trim 2023'!J:J) -> 0 | N40: =IF(AND(G40=0,K40=0),0,IF(K40=0,1,IF(G40=0,-1,(G40-K40)/K40))) -> 0
G41: =SUM(G37:G40) -> 82896 | I41: =SUM(I37:I40) -> 36487 | K41: =SUM(K37:K40) -> 86392 | M41: =SUM(M37:M40) -> 43034
B43: RESULTADO ANTES DAS RECEITAS E DESPESAS FINANCEIRAS | G43: =G41+G34+G22 -> -14448 | I43: =I41+I34+I22 -> -14355 | K43: =K41+K34+K22 -> -265 | M43: =M41+M34+M22 -> 87
B45: Receitas Financeiras | D45: 3.3.1 | F45: 25 | G45: =-SUMIF('Balancete 06.2026'!C:C,331,'Balancete 06.2026'!K:K) -> 539 | I45: =-SUMIF('Balancete trim'!B:B,331,'Balancete trim'!J:J) -> 253 | K45: 392 | M45: 168 | N45: =IF(AND(G45=0,K45=0),0,IF(K45=0,1,IF(G45=0,-1,(G45-K45)/K45))) -> 0.375
B46: Despesas Financeiras | D46: 4.2.7 | F46: 25 | G46: =-SUMIF('Balancete 06.2026'!C:C,427,'Balancete 06.2026'!K:K) -> -766 | I46: =-SUMIF('Balancete trim'!B:B,427,'Balancete trim'!J:J) -> -439 | K46: -803 | M46: -306 | N46: =IF(AND(G46=0,K46=0),0,IF(K46=0,1,IF(G46=0,-1,(G46-K46)/K46))) -> -0.04607721
G48: =SUM(G45:G47) -> -227 | I48: =SUM(I45:I47) -> -186 | K48: =SUM(K45:K47) -> -411 | M48: =SUM(M45:M47) -> -138
B50: LUCRO (PREJUÍZO) ANTES DO IRPJ E DA CSLL | G50: =+G43+G48 -> -14675 | I50: =+I43+I48 -> -14541 | K50: =+K43+K48 -> -676 | M50: =+M43+M48 -> -51
B52: IRPJ/CSLL correntes | F52: 26 | G52: =SUM(-SUMIF('Balancete 06.2026'!C:C,4251,'Balancete 06.2026'!K:K),-SUMIF('Balancete 06.2026'!C:C,4252,'Balancete 06.2026'!K:K)) -> -6 | I52: =-SUMIF('Balancete trim'!B:B,4251,'Balancete trim'!J:J)-SUMIF('Balancete trim'!B:B,4252,'Balancete trim'!J:J) -> 0 | K52: 0 | M52: 0
...

Sheet DRA 
B2: =[2]BP!B2 -> Empresa de Pesquisa Energética - EPE
B3: =[2]BP!B3 -> CNPJ 06.977.747/0001-80
B4: Demonstração do Resultado Abrangente
B5: (em milhares de reais)
G7: =DRE!G7 -> 01/01/2026 a 30/06/2026 (Acumulado) | I7: =DRE!I7 -> 01/04/2026 a 30/06/2026 (Trimestre) | K7: =DRE!K7 -> 01/01/2025 a 30/06/2025 (Acumulado) | M7: =DRE!M7 -> 01/04/2025 a 30/06/2025 (Trimestre)
B9: LUCRO LÍQUIDO (PREJUÍZO) DO PERÍODO | G9: =DRE!G54 -> -14681 | I9: =DRE!I54 -> -14541 | K9: =DRE!K54 -> -676 | M9: =DRE!M54 -> -51
B11: Outros resultados abrangentes | G11: 0 | I11: 0 | K11: 0 | M11: 0
B13: RESULTADO ABRANGENTE TOTAL | G13: =SUM(G9:G12) -> -14681 | I13: =SUM(I9:I12) -> -14541 | K13: =SUM(K9:K12) -> -676 | M13: =SUM(M9:M12) -> -51
G14: =SUM(G9:G12) -> -14681 | K14: =SUM(K9:K12) -> -676
B16: =BP!B56 -> As notas explicativas são parte integrante das informações financeiras intermediárias.
G21: =G13-DRE!G54 -> 0 | I21: =I13-DRE!I54 -> 0 | K21: =K13-DRE!K54 -> 0 | M21: =M13-DRE!M54 -> 0

Sheet DMPL
B5: =BP!B2 -> Empresa de Pesquisa Energética - EPE
B6: =BP!B3 -> CNPJ 06.977.747/0001-80
B7: Demonstração da Mutação do Patrimônio Líquido
B8: =BP!B5 -> (em milhares de reais)
C10: Notas | F10: Reserva Legal | H10: Reserva Especial Proposto
B12: Saldos em 31/12/2020 | D12: 20544 | F12: 163 | H12: 0 | J12: 5667 | L12: 0 | N12: =SUM(D12:L12) -> 26374
N13: =SUM(D13:L13) -> 0
B14: Aumento de Capital | C14: 17 | D14: =J12 -> 5667 | F14: 0 | J14: =-D14 -> -5667 | L14: 0 | N14: =SUM(D14:L14) -> 0
B15: Adiant. para Futuro Aumento de Capital | C15: 18 | D15: 0 | F15: 0 | H15: 0 | J15: 2258 | L15: 0 | N15: =SUM(D15:L15) -> 2258
B16: Prejuízo do Exercício | C16: 19 | D16: 0 | F16: 0 | H16: 0 | J16: 0 | L16: =-3521 -> -3521 | N16: =SUM(D16:L16) -> -3521
B17: Compensação de Prejuízos | C17: 19 | D17: - | F17: -163 | H17: 0 | J17: 0 | L17: =-F17-H17 -> 163 | N17: =SUM(D17:L17) -> 0
D18: Capital Social | J18: Adiantamento para Futuro Aumento de Capital | L18: Prejuízos acumulados | N18: Total
B19: Saldos em 01/01/2022 reapresentado | D19: =SUM(D12:D18) -> 26211 | F19: =SUM(F12:F18) -> 0 | H19: =SUM(H12:H18) -> 0 | J19: =SUM(J12:J18) -> 2258 | L19: -3358 | N19: =SUM(D19:L19) -> 25111 | O19: =N19-BP!J51 -> -6518
B21: Aumento de Capital | C21: 17 | D21: 2258 | F21: 0 | H21: 0 | J21: -2258 | L21: 0 | N21: =SUM(D21:L21) -> 0
B22: Adiant. para Futuro Aumento de Capital | D22: 0 | F22: 0 | H22: 0 | J22: 2550 | L22: 0 | N22: =SUM(D22:L22) -> 2550
B23: Ajustes retrospectivos | D23: 0 | J23: 0 | L23: 0 | N23: =SUM(D23:L23) -> 0
B24: Resultado do Exercício | D24: - | F24: =-F18 -> 0 | H24: 0 | J24: 0 | L24: -3379 | N24: =SUM(D24:L24) -> -3379
B25: Compensação de prejuízos | D25: - | H25: 0 | J25: 0 | N25: =SUM(D25:L25) -> 0
B27: Saldos em 31/12/2022 | D27: 0 | E27: =SUM(E16:E22) -> 0 | F27: =SUM(F19:F26) -> 0 | G27: =SUM(G16:G22) -> 0 | H27: =SUM(H16:H22) -> 0 | I27: =SUM(I16:I22) -> 0 | J27: 0 | L27: 0 | N27: 0
B30: Saldos em 31/12/2022 reapresentado | D30: =SUM(D19:D29) -> 28469 | E30: =SUM(E19:E26) -> 0 | F30: =SUM(F19:F26) -> 0 | G30: =SUM(G19:G26) -> 0 | H30: =SUM(H19:H26) -> 0 | I30: =SUM(I19:I26) -> 0 | J30: =SUM(J19:J29) -> 2550 | L30: =SUM(L19:L29) -> -6737 | N30: =SUM(D30:L30) -> 24282 | O30: =N30-24282 -> 0
B31: Aumento de Capital | C31: 17 | D31: 0 | F31: 0 | H31: 0 | J31: =-D31 -> 0 | L31: 0 | N31: =SUM(D31:L31) -> 0
B33: Aumento de Capital | C33: 18 | D33: 2550 | J33: -2550 | L33: 0 | N33: =SUM(D33:L33) -> 0
B34: Adiant. para Futuro Aumento de Capital | C34: 19 | D34: 0 | F34: 0 | H34: 0 | J34: 439 | L34: 0 | N34: =SUM(D34:L34) -> 439
B35: Ajustes retrospectivos | D35: 0 | J35: 0 | L35: 0 | N35: =SUM(D35:L35) -> 0
B36: Resultado do Exercício | C36: 20 | D36: 0 | F36: =-F25 -> 0 | H36: 0 | J36: 0 | L36: =DRE!K54 -> -676 | N36: =SUM(D36:L36) -> -676
B37: Compensação de prejuízos | D37: 0 | H37: 0 | J37: 0 | L37: 0 | N37: =SUM(D37:L37) -> 0
B39: Saldos em 30/09/2023 reapresentado | D39: 0 | J39: 0 | K39: 0 | L39: 0 | N39: 0 | O39: 0
B42: Saldos em 31/12/2024 | D42: 31458 | E42: =SUM(E26:E41) -> 0 | F42: =SUM(F26:F41) -> 0 | G42: =SUM(G26:G41) -> 0 | H42: =SUM(H26:H41) -> 0 | I42: =SUM(I26:I41) -> 0 | J42: 2986 | L42: -2834 | N42: 31610
B44: Aumento de Capital | C44: 18 | D44: 2986 | J44: -2986 | L44: 0 | N44: 0
B45: Adiant. para Futuro Aumento de Capital | C45: 19 | D45: 0 | F45: 0 | H45: 0 | J45: 695 | L45: 0 | N45: =SUM(D45:L45) -> 695
B46: Ajustes retrospectivos | D46: 0 | J46: 0 | L46: 0 | N46: =SUM(D46:L46) -> 0
B47: Resultado do exercício | C47: 20 | D47: 0 | F47: =-F32 -> 0 | H47: 0 | J47: 0 | L47: =DRE!K54 -> -676 | N47: =SUM(D47:L47) -> -676
B48: Compensação de prejuízos | D48: 0 | H48: 0 | J48: 0 | L48: 0 | N48: =SUM(D48:L48) -> 0
B50: ="Saldos em "&DRE!K7 -> Saldos em 01/01/2025 a 30/06/2025 (Acumulado) | D50: =SUM(D42:D49) -> 34444 | E50: =SUM(E31:E48) -> 0 | F50: =SUM(F31:F48) -> 0 | G50: =SUM(G31:G48) -> 0 | H50: =SUM(H31:H48) -> 0 | I50: =SUM(I31:I48) -> 0 | J50: =SUM(J40:J48) -> 695 | L50: =SUM(L40:L48) -> -3510 | N50: =SUM(N40:N48) -> 31629 | O50: =N50-BP!J51 -> 0
B53: Saldos em 31/12/2025 | D53: 34444 | E53: =SUM(E33:E52) -> 0 | F53: =SUM(F33:F52) -> 0 | G53: =SUM(G33:G52) -> 0 | H53: =SUM(H33:H52) -> 0 | I53: =SUM(I33:I52) -> 0 | J53: 1710 | L53: -11485 | N53: =SUM(D53:L53)+1 -> 24670 | O53: =N53-BP!H51 -> 0
B55: Aumento de Capital | C55: 18 | D55: 1710 | E55: 0 | J55: -1710 | L55: 0 | N55: 0
B56: Adiant. para Futuro Aumento de Capital | C56: 19 | D56: 0 | F56: 0 | H56: 0 | J56: =ROUND(-SUMIF('Balancete 06.2026'!C:C,24711,'Balancete 06.2026'!G:G)/1000,0) -> 1687 | L56: 0 | N56: =SUM(D56:L56) -> 1687
B57: Ajustes retrospectivos | D57: 0 | J57: 0 | L57: 0 | N57: =SUM(D57:L57) -> 0
B58: Resultado do exercício | C58: 20 | D58: 0 | F58: =-F40 -> 0 | H58: 0 | J58: 0 | L58: =DRE!G54 -> -14681 | N58: =SUM(D58:L58) -> -14681
B59: Compensação de prejuízos | D59: 0 | H59: 0 | J59: 0 | L59: 0 | N59: =SUM(D59:L59) -> 0
...

Sheet DFC 
B1: =BP!B2 -> Empresa de Pesquisa Energética - EPE
B2: =BP!B3 -> CNPJ 06.977.747/0001-80
B3: Demonstração dos fluxos de Caixa
B4: =BP!B5 -> (em milhares de reais)
D5: 31/01/2024 (inicial) | E5: arrendondamento | F5: =BP!F7 -> 46203 | I5: 45838
B6: Fluxo de caixa das atividades operacionais
B7: Lucro Líquido (Prejuízo) do Período | F7: =DRE!G54 -> -14681 | G7: =SUMIFS(#REF!,#REF!,'DFC '!C7) -> #REF! | I7: =DRE!K54 -> -676
B8: Ajuste de Reclassificação - Recebimento de Subvenções | C8: =IFERROR(VLOOKUP(B8,Listas!$B$21:$C$50,2,FALSE),"") -> 600003 | D8: =SUMIFS('Balancete 06.2026'!O9:O807,'Balancete 06.2026'!M9:M807,'DFC '!C8) -> -75965949 | E8: =ROUND(D8/1000,0) -> -75966 | F8: =E8 -> -75966 | G8: =SUMIFS(#REF!,#REF!,'DFC '!C8) -> #REF! | I8: -85919
B9: Ajustes retrospectivos | C9: =IFERROR(VLOOKUP(B9,Listas!$B$21:$C$50,2,FALSE),"") -> 600004 | D9: =SUMIFS('Balancete 06.2026'!O10:O309,'Balancete 06.2026'!M10:M309,'DFC '!C9) -> 0 | F9: 0 | I9: 0
B10: Depreciação / Amortização | C10: =IFERROR(VLOOKUP(B10,Listas!$B$21:$C$50,2,FALSE),"") -> 600005 | D10: =SUMIFS('Balancete 06.2026'!O11:O309,'Balancete 06.2026'!M11:M309,'DFC '!C10) -> 1213227.5 | E10: =ROUND(D10/1000,0) -> 1213 | F10: =SUMIF('Balancete 06.2026'!C:C,426111,'Balancete 06.2026'!K:K)+SUMIF('Balancete 06.2026'!C:C,426118,'Balancete 06.2026'!K:K) -> 2691 | G10: =SUMIFS(#REF!,#REF!,'DFC '!C10) -> #REF! | I10: 2824
B11: Amortização do direito de uso | C11: =IFERROR(VLOOKUP(B11,Listas!$B$21:$C$50,2,FALSE),"") -> 600006 | D11: =SUMIFS('Balancete 06.2026'!O12:O309,'Balancete 06.2026'!M12:M309,'DFC '!C11) -> 1477644.3 | E11: =ROUND(D11/1000,0) -> 1478 | F11: 0 | G11: =SUMIFS(#REF!,#REF!,'DFC '!C11) -> #REF! | I11: 0
B12: Ajuste a valor presente de arrendamento mercantil | C12: =IFERROR(VLOOKUP(B12,Listas!$B$21:$C$50,2,FALSE),"") -> 600007 | D12: =SUMIFS('Balancete 06.2026'!O13:O309,'Balancete 06.2026'!M13:M309,'DFC '!C12) -> 351869.36 | E12: =ROUND(D12/1000,0) -> 352 | F12: =E12 -> 352 | G12: =SUMIFS(#REF!,#REF!,'DFC '!C12) -> #REF! | I12: 403
B13: Ajustes/Baixas - ativos fixos | C13: 600033 | D13: =SUMIFS('Balancete 06.2026'!O14:O582,'Balancete 06.2026'!M14:M582,'DFC '!C13) -> 0 | E13: =ROUND(D13/1000,0) -> 0 | F13: 0 | I13: 0
B14: Adições/Atualizações/Reversões nas provisões para contingências | C14: =IFERROR(VLOOKUP(B14,Listas!$B$21:$C$50,2,FALSE),"") -> 600008 | D14: =SUMIFS('Balancete 06.2026'!O14:O309,'Balancete 06.2026'!M14:M309,'DFC '!C14) -> -2697689.1 | E14: =ROUND(D14/1000,0) -> -2698 | F14: =E14 -> -2698 | G14: =SUMIFS(#REF!,#REF!,'DFC '!C14) -> #REF! | I14: -1199
B15: Atualização/tributos a compensar/Depósitos Judiciais | C15: =IFERROR(VLOOKUP(B15,Listas!$B$21:$C$50,2,FALSE),"") -> 600009 | D15: =+D16+D17 -> -428 | E15: =ROUND(D15/1000,0) -> 0 | F15: =D15 -> -428 | I15: -393
B16: I) Impostos a recuperar | D16: =-'Impostos a recuperar 2026'!D204 -> -207 | G16: =-'Impostos a recuperar 2023'!H96 -> -30
B17: II) Depósitos judiciais | D17: =-'Depositos 2026'!E45 -> -221 | G17: =-'Depósitos judiciais 2023'!H30 -> -63
C18: =IFERROR(VLOOKUP(B18,Listas!$B$21:$C$50,2,FALSE),"")
B19: Variação nos saldos de ativos e passivos | C19: =IFERROR(VLOOKUP(B19,Listas!$B$21:$C$50,2,FALSE),"")
B20: Conta a Receber - Leilões ANEEL | C20: =IFERROR(VLOOKUP(B20,Listas!$B$21:$C$50,2,FALSE),"") -> 600010 | D20: =SUMIFS('Balancete 06.2026'!O:O,'Balancete 06.2026'!M:M,'DFC '!C20) -> 0 | F20: =+D20/1000 -> 0 | I20: 0
B21: Adiantamentos concedidos | C21: =IFERROR(VLOOKUP(B21,Listas!$B$21:$C$50,2,FALSE),"") -> 600011 | D21: =SUMIFS('Balancete 06.2026'!O21:O309,'Balancete 06.2026'!M21:M309,'DFC '!C21)+1000 -> -3677555.7 | E21: =ROUND(D21/1000,0) -> -3678 | F21: =E21 -> -3678 | G21: =SUMIFS(#REF!,#REF!,'DFC '!C21) -> #REF! | I21: -2904
B22: Despesas antecipadas | C22: =IFERROR(VLOOKUP(B22,Listas!$B$21:$C$50,2,FALSE),"") -> 600012 | D22: =SUMIFS('Balancete 06.2026'!O:O,'Balancete 06.2026'!M:M,'DFC '!C22)-1000 -> 3157908.6 | E22: =ROUND(D22/1000,0) -> 3158 | F22: =E22 -> 3158 | G22: =SUMIFS(#REF!,#REF!,'DFC '!C22) -> #REF! | I22: 776
B23: Depósitos judiciais | C23: =IFERROR(VLOOKUP(B23,Listas!$B$21:$C$50,2,FALSE),"") -> 600013 | D23: =SUMIFS('Balancete 06.2026'!O:O,'Balancete 06.2026'!M:M,'DFC '!C23) -> -1545126.5 | E23: =ROUND(D23/1000,0) -> -1545 | F23: =-'Depositos 2026'!E46 -> -1324 | G23: =SUMIFS(#REF!,#REF!,'DFC '!C23) -> #REF! | I23: 1069
B24: Impostos a recuperar | C24: =IFERROR(VLOOKUP(B24,Listas!$B$21:$C$50,2,FALSE),"") -> 600014 | D24: =SUMIFS('Balancete 06.2026'!O:O,'Balancete 06.2026'!M:M,'DFC '!C24) -> 236152.61 | E24: =ROUND(D24/1000,0) -> 236 | F24: =-'Impostos a recuperar 2026'!D203 -> 382 | G24: =SUMIFS(#REF!,#REF!,'DFC '!C24) -> #REF! | I24: -245
B25: Depesas com provisão para contigências | C25: =IFERROR(VLOOKUP(B25,Listas!$B$21:$C$50,2,FALSE),"") -> 600015 | D25: =SUMIFS('Balancete 06.2026'!O:O,'Balancete 06.2026'!M:M,'DFC '!C25) -> 0 | F25: =E25 -> 0 | I25: 0
B26: Outros ativos | C26: =IFERROR(VLOOKUP(B26,Listas!$B$21:$C$50,2,FALSE),"") -> 600016 | D26: =SUMIFS('Balancete 06.2026'!O:O,'Balancete 06.2026'!M:M,'DFC '!C26) -> -106945.09 | E26: =ROUND(D26/1000,0) -> -107 | F26: =E26 -> -107 | I26: 0
B27: Fornecedores | C27: =IFERROR(VLOOKUP(B27,Listas!$B$21:$C$50,2,FALSE),"") -> 600017 | D27: =SUMIFS('Balancete 06.2026'!O:O,'Balancete 06.2026'!M:M,'DFC '!C27) -> 968809.62 | E27: =ROUND(D27/1000,0) -> 969 | F27: =E27 -> 969 | G27: =SUMIFS(#REF!,#REF!,'DFC '!C27) -> #REF! | I27: 658
B28: Obrigações tributárias | C28: =IFERROR(VLOOKUP(B28,Listas!$B$21:$C$50,2,FALSE),"") -> 600018 | D28: =SUMIFS('Balancete 06.2026'!O:O,'Balancete 06.2026'!M:M,'DFC '!C28) -> -2114584.7 | E28: =ROUND(D28/1000,0) -> -2115 | F28: =E28-F35 -> -2109 | G28: =SUMIFS(#REF!,#REF!,'DFC '!C28) -> #REF! | I28: -1111
B29: Obrigações trabalhistas e sociais | C29: =IFERROR(VLOOKUP(B29,Listas!$B$21:$C$50,2,FALSE),"") -> 600019 | D29: =SUMIFS('Balancete 06.2026'!O:O,'Balancete 06.2026'!M:M,'DFC '!C29) -> 6887235.8 | E29: =ROUND(D29/1000,0)+1 -> 6888 | F29: =E29 -> 6888 | G29: =SUMIFS(#REF!,#REF!,'DFC '!C29) -> #REF! | I29: 9227
B30: Previdência privada complementar | C30: 600032 | D30: =SUMIFS('Balancete 06.2026'!O:O,'Balancete 06.2026'!M:M,'DFC '!C30) -> 1059799.8 | E30: =ROUND(D30/1000,0) -> 1060 | F30: =E30 -> 1060 | I30: 101
B31: Obrigações judiciais | C31: =IFERROR(VLOOKUP(B31,Listas!$B$21:$C$50,2,FALSE),"") -> 600020 | D31: =SUMIFS('Balancete 06.2026'!O:O,'Balancete 06.2026'!M:M,'DFC '!C31) -> 0 | F31: =E31 -> 0 | I31: 0
B32: Obrigações com Cessão de pessoal | C32: 600021 | D32: =SUMIFS('Balancete 06.2026'!O:O,'Balancete 06.2026'!M:M,'DFC '!C32)+1000 -> 1409.06 | E32: =ROUND(D32/1000,0) -> 1 | F32: =E32 -> 1 | G32: =SUMIFS(#REF!,#REF!,'DFC '!C32) -> #REF! | I32: 1
B33: Baixa de provisão para contingência indenizada | F33: 0 | I33: 0
B34: Caixa gerado pelas atividades operacionais | C34: =IFERROR(VLOOKUP(B34,Listas!$B$21:$C$50,2,FALSE),"") | D34: =SUM(D7:D15)+SUM(D20:D32) -> -70754222 | F34: =SUM(F7:F33) -> -85490 | I34: =SUM(I7:I33) -> -77388
B35: Impostos de renda e contribuição social pagos | F35: -6 | I35: -245
B36: Caixa liquído consumido pelas ativades operacionais | F36: =SUM(F34,F35) -> -85496 | I36: =SUM(I34,I35) -> -77633
C37: =IFERROR(VLOOKUP(B37,Listas!$B$21:$C$50,2,FALSE),"")
B38: Fluxo de caixa das atividades de investimentos | C38: =IFERROR(VLOOKUP(B38,Listas!$B$21:$C$50,2,FALSE),"")
B39: Arrendamento mercantil (direito de uso) | C39: =IFERROR(VLOOKUP(B39,Listas!$B$21:$C$50,2,FALSE),"") | D39: =SUMIFS('Balancete 06.2026'!O:O,'Balancete 06.2026'!M:M,'DFC '!C39) -> 0 | E39: 0 | F39: 0 | I39: 0
B40: Aquisição de Intangível | C40: =IFERROR(VLOOKUP(B40,Listas!$B$21:$C$50,2,FALSE),"") -> 600023 | D40: =SUMIFS('Balancete 06.2026'!O:O,'Balancete 06.2026'!M:M,'DFC '!C40) -> -799729.77 | E40: =ROUND(D40/1000,0) -> -800 | F40: =E40 -> -800 | I40: 0
...

Sheet DVA 
B2: =BP!B2 -> Empresa de Pesquisa Energética - EPE
B3: =BP!B3 -> CNPJ 06.977.747/0001-80
B4: Demonstração do Valor Adicionado
B5: =BP!B5 -> (em milhares de reais)
F7: 45322 | G7: arrendondamento | H7: ='DFC '!F5 -> 46203 | L7: 45838
B9: Receitas
C10: Subsídios Públicos | E10: =IFERROR(VLOOKUP(C10,Listas!$B$2:$C$20,2,FALSE),"") -> 500002 | F10: =IF(SUMIFS('Balancete 06.2026'!$I$8:$I$580,'Balancete 06.2026'!$L$8:$L$580,'DVA '!E10)>0,SUMIFS('Balancete 06.2026'!$I$8:$I$580,'Balancete 06.2026'!$L$8:$L$580,'DVA '!E10),SUMIFS('Balancete 06.2026'!$I$8:$I$580,'Balancete 06.2026'!$L$8:$L$580,'DVA '!E10)*-1) -> 75965949 | G10: =ROUND(F10/1000,0) -> 75966 | H10: =G10 -> 75966 | I10: =IF(SUMIFS('Balancete 08.2023'!$I$7:$I$997,'Balancete 08.2023'!$L$7:$L$997,'DVA '!E10)>0,SUMIFS('Balancete 08.2023'!$I$7:$I$997,'Balancete 08.2023'!$L$7:$L$997,'DVA '!E10),SUMIFS('Balancete 08.2023'!$I$7:$I$997,'Balancete 08.2023'!$L$7:$L$997,'DVA '!E10)*-1) -> 81538428 | J10: =ROUND(I10/1000,0) -> 81538 | L10: 85919 | N10: =H10+'DFC '!F8 -> 0 | O10: =L10+'DFC '!I8 -> 0
C11: Outras Receitas | E11: =IFERROR(VLOOKUP(C11,Listas!$B$2:$C$20,2,FALSE),"") -> 500003 | F11: =IF(SUMIFS('Balancete 06.2026'!$I$8:$I$580,'Balancete 06.2026'!$L$8:$L$580,'DVA '!E11)>0,SUMIFS('Balancete 06.2026'!$I$8:$I$580,'Balancete 06.2026'!$L$8:$L$580,'DVA '!E11),SUMIFS('Balancete 06.2026'!$I$8:$I$580,'Balancete 06.2026'!$L$8:$L$580,'DVA '!E11)*-1) -> 6935288.8 | G11: =ROUND(F11/1000,0) -> 6935 | H11: =G11 -> 6935 | I11: =IF(SUMIFS('Balancete 08.2023'!$I$7:$I$997,'Balancete 08.2023'!$L$7:$L$997,'DVA '!E11)>0,SUMIFS('Balancete 08.2023'!$I$7:$I$997,'Balancete 08.2023'!$L$7:$L$997,'DVA '!E11),SUMIFS('Balancete 08.2023'!$I$7:$I$997,'Balancete 08.2023'!$L$7:$L$997,'DVA '!E11)*-1) -> 2855666.8 | J11: =ROUND(I11/1000,0) -> 2856 | L11: 473
E12: =IFERROR(VLOOKUP(C12,Listas!$B$2:$C$20,2,FALSE),"") | F12: =SUM(F10:F11) -> 82901238 | H12: =SUM(H10:H11) -> 82901 | L12: =SUM(L10:L11) -> 86392
E13: =IFERROR(VLOOKUP(C13,Listas!$B$2:$C$20,2,FALSE),"")
B14: Insumos | E14: =IFERROR(VLOOKUP(C14,Listas!$B$2:$C$20,2,FALSE),"")
C15: Materiais, utilidades, serviços de terceiros e outros | E15: =IFERROR(VLOOKUP(C15,Listas!$B$2:$C$20,2,FALSE),"") -> 500004 | F15: =IF(SUMIFS('Balancete 06.2026'!$I$8:$I$580,'Balancete 06.2026'!$L$8:$L$580,'DVA '!E15)>0,SUMIFS('Balancete 06.2026'!$I$8:$I$580,'Balancete 06.2026'!$L$8:$L$580,'DVA '!E15),SUMIFS('Balancete 06.2026'!$I$8:$I$580,'Balancete 06.2026'!$L$8:$L$580,'DVA '!E15)*-1) -> 14940196 | G15: =ROUND(F15/1000,0) -> 14940 | H15: =-G15 -> -14940 | I15: =IF(SUMIFS('Balancete 08.2023'!$I$7:$I$997,'Balancete 08.2023'!$L$7:$L$997,'DVA '!E15)>0,SUMIFS('Balancete 08.2023'!$I$7:$I$997,'Balancete 08.2023'!$L$7:$L$997,'DVA '!E15),SUMIFS('Balancete 08.2023'!$I$7:$I$997,'Balancete 08.2023'!$L$7:$L$997,'DVA '!E15)*-1) -> 14863906 | J15: =ROUND(I15/1000,0) -> 14864 | L15: -10777
E16: =IFERROR(VLOOKUP(C16,Listas!$B$2:$C$20,2,FALSE),"") | F16: =SUM(F15) -> 14940196 | H16: =SUM(H15) -> -14940 | L16: =SUM(L15) -> -10777
E17: =IFERROR(VLOOKUP(C17,Listas!$B$2:$C$20,2,FALSE),"")
B18: Valor Adicionado Bruto | E18: =IFERROR(VLOOKUP(C18,Listas!$B$2:$C$20,2,FALSE),"") | F18: =+F12-F16 -> 67961042 | G18: =ROUND(F18/1000,0) -> 67961 | H18: =H12+H16 -> 67961 | L18: =+L12+L16 -> 75615
E19: =IFERROR(VLOOKUP(C19,Listas!$B$2:$C$20,2,FALSE),"")
C20: Depreciação e Amortização | E20: =IFERROR(VLOOKUP(C20,Listas!$B$2:$C$20,2,FALSE),"") -> 500005 | F20: =IF(SUMIFS('Balancete 06.2026'!$I$8:$I$580,'Balancete 06.2026'!$L$8:$L$580,'DVA '!E20)>0,SUMIFS('Balancete 06.2026'!$I$8:$I$580,'Balancete 06.2026'!$L$8:$L$580,'DVA '!E20),SUMIFS('Balancete 06.2026'!$I$8:$I$580,'Balancete 06.2026'!$L$8:$L$580,'DVA '!E20)*-1) -> 2690871.8 | G20: =ROUND(F20/1000,0) -> 2691 | H20: =-G20 -> -2691 | I20: =IF(SUMIFS('Balancete 08.2023'!$I$7:$I$997,'Balancete 08.2023'!$L$7:$L$997,'DVA '!E20)>0,SUMIFS('Balancete 08.2023'!$I$7:$I$997,'Balancete 08.2023'!$L$7:$L$997,'DVA '!E20),SUMIFS('Balancete 08.2023'!$I$7:$I$997,'Balancete 08.2023'!$L$7:$L$997,'DVA '!E20)*-1) -> 2149771.8 | J20: =ROUND(I20/1000,0) -> 2150 | L20: -2824 | N20: =H20+'DFC '!F10 -> 0 | O20: =L20+'DFC '!I10+'DFC '!I11 -> 0
E21: =IFERROR(VLOOKUP(C21,Listas!$B$2:$C$20,2,FALSE),"")
B22: Valor Adicionado Líquido produzido | E22: =IFERROR(VLOOKUP(C22,Listas!$B$2:$C$20,2,FALSE),"") | F22: =+F18-F20 -> 65270170 | G22: =ROUND(F22/1000,0) -> 65270 | H22: =H18+H20 -> 65270 | L22: =L18+L20 -> 72791
E23: =IFERROR(VLOOKUP(C23,Listas!$B$2:$C$20,2,FALSE),"")
B24: Valor Adicionado recebido em transferência | E24: =IFERROR(VLOOKUP(C24,Listas!$B$2:$C$20,2,FALSE),"")
C25: Receitas Financeiras | E25: =IFERROR(VLOOKUP(C25,Listas!$B$2:$C$20,2,FALSE),"") -> 500006 | F25: =IF(SUMIFS('Balancete 06.2026'!$I$8:$I$580,'Balancete 06.2026'!$L$8:$L$580,'DVA '!E25)>0,SUMIFS('Balancete 06.2026'!$I$8:$I$580,'Balancete 06.2026'!$L$8:$L$580,'DVA '!E25),SUMIFS('Balancete 06.2026'!$I$8:$I$580,'Balancete 06.2026'!$L$8:$L$580,'DVA '!E25)*-1) -> 539063.07 | G25: =ROUND(F25/1000,0) -> 539 | H25: =G25 -> 539 | I25: =IF(SUMIFS('Balancete 08.2023'!$I$7:$I$997,'Balancete 08.2023'!$L$7:$L$997,'DVA '!E25)>0,SUMIFS('Balancete 08.2023'!$I$7:$I$997,'Balancete 08.2023'!$L$7:$L$997,'DVA '!E25),SUMIFS('Balancete 08.2023'!$I$7:$I$997,'Balancete 08.2023'!$L$7:$L$997,'DVA '!E25)*-1) -> 415768.49 | J25: =ROUND(I25/1000,0) -> 416 | L25: 392
C26: Reversão de Custos e Despesas | E26: =IFERROR(VLOOKUP(C26,Listas!$B$2:$C$20,2,FALSE),"") -> 500007 | F26: =IF(SUMIFS('Balancete 06.2026'!$I$8:$I$580,'Balancete 06.2026'!$L$8:$L$580,'DVA '!E26)>0,SUMIFS('Balancete 06.2026'!$I$8:$I$580,'Balancete 06.2026'!$L$8:$L$580,'DVA '!E26),SUMIFS('Balancete 06.2026'!$I$8:$I$580,'Balancete 06.2026'!$L$8:$L$580,'DVA '!E26)*-1) -> 0 | G26: 0 | H26: =G26 -> 0 | L26: 0
E27: =IFERROR(VLOOKUP(C27,Listas!$B$2:$C$20,2,FALSE),"") | F27: =SUM(F25:F26) -> 539063.07 | H27: =SUM(H25:H26) -> 539 | L27: =SUM(L25:L26) -> 392
E28: =IFERROR(VLOOKUP(C28,Listas!$B$2:$C$20,2,FALSE),"")
E29: =IFERROR(VLOOKUP(C29,Listas!$B$2:$C$20,2,FALSE),"")
B30: Valor Adicionado Total a Distribuir | E30: =IFERROR(VLOOKUP(D30,Listas!$B$2:$C$20,2,FALSE),"") | F30: =+F22+F27 -> 65809233 | G30: =ROUND(F30/1000,0) -> 65809 | H30: =+H22+H27 -> 65809 | L30: =+L22+L27 -> 73183
B31: Distribuição do valor adicionado | E31: =IFERROR(VLOOKUP(D31,Listas!$B$2:$C$20,2,FALSE),"")
C32: Pessoal | E32: =IFERROR(VLOOKUP(D32,Listas!$B$2:$C$20,2,FALSE),"")
D33: Remuneração Direta | E33: =IFERROR(VLOOKUP(D33,Listas!$B$2:$C$20,2,FALSE),"") -> 500008 | F33: =IF(SUMIFS('Balancete 06.2026'!$I$8:$I$580,'Balancete 06.2026'!$L$8:$L$580,'DVA '!E33)>0,SUMIFS('Balancete 06.2026'!$I$8:$I$580,'Balancete 06.2026'!$L$8:$L$580,'DVA '!E33),SUMIFS('Balancete 06.2026'!$I$8:$I$580,'Balancete 06.2026'!$L$8:$L$580,'DVA '!E33)*-1) -> 54481724 | G33: =ROUND(F33/1000,0)+1 -> 54483 | H33: =G33 -> 54483 | I33: =IF(SUMIFS('Balancete 08.2023'!$I$7:$I$997,'Balancete 08.2023'!$L$7:$L$997,'DVA '!E33)>0,SUMIFS('Balancete 08.2023'!$I$7:$I$997,'Balancete 08.2023'!$L$7:$L$997,'DVA '!E33),SUMIFS('Balancete 08.2023'!$I$7:$I$997,'Balancete 08.2023'!$L$7:$L$997,'DVA '!E33)*-1) -> 43276087 | J33: =ROUND(I33/1000,0) -> 43276 | L33: 50240
D34: Benefícios | E34: =IFERROR(VLOOKUP(D34,Listas!$B$2:$C$20,2,FALSE),"") -> 500009 | F34: =IF(SUMIFS('Balancete 06.2026'!$I$8:$I$580,'Balancete 06.2026'!$L$8:$L$580,'DVA '!E34)>0,SUMIFS('Balancete 06.2026'!$I$8:$I$580,'Balancete 06.2026'!$L$8:$L$580,'DVA '!E34),SUMIFS('Balancete 06.2026'!$I$8:$I$580,'Balancete 06.2026'!$L$8:$L$580,'DVA '!E34)*-1) -> 8428396.2 | G34: =ROUND(F34/1000,0) -> 8428 | H34: =G34 -> 8428 | I34: =IF(SUMIFS('Balancete 08.2023'!$I$7:$I$997,'Balancete 08.2023'!$L$7:$L$997,'DVA '!E34)>0,SUMIFS('Balancete 08.2023'!$I$7:$I$997,'Balancete 08.2023'!$L$7:$L$997,'DVA '!E34),SUMIFS('Balancete 08.2023'!$I$7:$I$997,'Balancete 08.2023'!$L$7:$L$997,'DVA '!E34)*-1) -> 5970412.6 | J34: =ROUND(I34/1000,0) -> 5970 | L34: 7615
D35: FGTS | E35: =IFERROR(VLOOKUP(D35,Listas!$B$2:$C$20,2,FALSE),"") -> 500010 | F35: =IF(SUMIFS('Balancete 06.2026'!$I$8:$I$580,'Balancete 06.2026'!$L$8:$L$580,'DVA '!E35)>0,SUMIFS('Balancete 06.2026'!$I$8:$I$580,'Balancete 06.2026'!$L$8:$L$580,'DVA '!E35),SUMIFS('Balancete 06.2026'!$I$8:$I$580,'Balancete 06.2026'!$L$8:$L$580,'DVA '!E35)*-1) -> 4200952.3 | G35: =ROUND(F35/1000,0) -> 4201 | H35: =G35 -> 4201 | I35: =IF(SUMIFS('Balancete 08.2023'!$I$7:$I$997,'Balancete 08.2023'!$L$7:$L$997,'DVA '!E35)>0,SUMIFS('Balancete 08.2023'!$I$7:$I$997,'Balancete 08.2023'!$L$7:$L$997,'DVA '!E35),SUMIFS('Balancete 08.2023'!$I$7:$I$997,'Balancete 08.2023'!$L$7:$L$997,'DVA '!E35)*-1) -> 3356405.2 | J35: =ROUND(I35/1000,0) -> 3356 | L35: 3856
D36: Contingências trabalhistas | E36: =IFERROR(VLOOKUP(D36,Listas!$B$2:$C$20,2,FALSE),"") -> 500011 | F36: =IF(SUMIFS('Balancete 06.2026'!$I$8:$I$582,'Balancete 06.2026'!$L$8:$L$582,'DVA '!E36)>0,SUMIFS('Balancete 06.2026'!$I$8:$I$582,'Balancete 06.2026'!$L$8:$L$582,'DVA '!E36),SUMIFS('Balancete 06.2026'!$I$8:$I$582,'Balancete 06.2026'!$L$8:$L$582,'DVA '!E36)*-1) -> 0 | G36: =ROUND(F36/1000,0) -> 0 | H36: =G36 -> 0 | I36: =IF(SUMIFS('Balancete 08.2023'!$I$7:$I$997,'Balancete 08.2023'!$L$7:$L$997,'DVA '!E36)>0,SUMIFS('Balancete 08.2023'!$I$7:$I$997,'Balancete 08.2023'!$L$7:$L$997,'DVA '!E36),SUMIFS('Balancete 08.2023'!$I$7:$I$997,'Balancete 08.2023'!$L$7:$L$997,'DVA '!E36)*-1) -> 150786.72 | J36: =ROUND(I36/1000,0) -> 151 | L36: 0
D37: Contingências civis | F37: 0 | G37: =F37/1000 -> 0 | H37: =G37 -> 0 | L37: 0
E38: =IFERROR(VLOOKUP(D38,Listas!$B$2:$C$20,2,FALSE),"") | F38: =SUM(F33:F36) -> 67111073 | H38: =SUM(H33:H37) -> 67112 | L38: =SUM(L33:L37) -> 61711
E39: =IFERROR(VLOOKUP(D39,Listas!$B$2:$C$20,2,FALSE),"")
C40: Governos (Impostos, taxas e contribuições) | E40: =IFERROR(VLOOKUP(D40,Listas!$B$2:$C$20,2,FALSE),"")
D41: Federais (inclui a contribuição previdenciária e sindical) | E41: =IFERROR(VLOOKUP(D41,Listas!$B$2:$C$20,2,FALSE),"") -> 500012 | F41: =IF(SUMIFS('Balancete 06.2026'!$I$8:$I$580,'Balancete 06.2026'!$L$8:$L$580,'DVA '!E41)>0,SUMIFS('Balancete 06.2026'!$I$8:$I$580,'Balancete 06.2026'!$L$8:$L$580,'DVA '!E41),SUMIFS('Balancete 06.2026'!$I$8:$I$580,'Balancete 06.2026'!$L$8:$L$580,'DVA '!E41)*-1) -> 12173135 | G41: =ROUND(F41/1000,0) -> 12173 | H41: =G41 -> 12173 | I41: =IF(SUMIFS('Balancete 08.2023'!$I$7:$I$997,'Balancete 08.2023'!$L$7:$L$997,'DVA '!E41)>0,SUMIFS('Balancete 08.2023'!$I$7:$I$997,'Balancete 08.2023'!$L$7:$L$997,'DVA '!E41),SUMIFS('Balancete 08.2023'!$I$7:$I$997,'Balancete 08.2023'!$L$7:$L$997,'DVA '!E41)*-1) -> 9690959.7 | J41: =ROUND(I41/1000,0) -> 9691 | L41: 10956
D42: Estaduais (inclui IPVA) | E42: =IFERROR(VLOOKUP(D42,Listas!$B$2:$C$20,2,FALSE),"") -> 500013 | F42: =IF(SUMIFS('Balancete 06.2026'!$I$8:$I$580,'Balancete 06.2026'!$L$8:$L$580,'DVA '!E42)>0,SUMIFS('Balancete 06.2026'!$I$8:$I$580,'Balancete 06.2026'!$L$8:$L$580,'DVA '!E42),SUMIFS('Balancete 06.2026'!$I$8:$I$580,'Balancete 06.2026'!$L$8:$L$580,'DVA '!E42)*-1) -> 19715.54 | G42: =ROUND(F42/1000,0) -> 20 | H42: =G42 -> 20 | I42: =IF(SUMIFS('Balancete 08.2023'!$I$7:$I$997,'Balancete 08.2023'!$L$7:$L$997,'DVA '!E42)>0,SUMIFS('Balancete 08.2023'!$I$7:$I$997,'Balancete 08.2023'!$L$7:$L$997,'DVA '!E42),SUMIFS('Balancete 08.2023'!$I$7:$I$997,'Balancete 08.2023'!$L$7:$L$997,'DVA '!E42)*-1) -> 22222.56 | J42: =ROUND(I42/1000,0) -> 22 | L42: 26
D43: Municipais | E43: =IFERROR(VLOOKUP(D43,Listas!$B$2:$C$20,2,FALSE),"") -> 500014 | F43: =IF(SUMIFS('Balancete 06.2026'!$I$8:$I$580,'Balancete 06.2026'!$L$8:$L$580,'DVA '!E43)>0,SUMIFS('Balancete 06.2026'!$I$8:$I$580,'Balancete 06.2026'!$L$8:$L$580,'DVA '!E43),SUMIFS('Balancete 06.2026'!$I$8:$I$580,'Balancete 06.2026'!$L$8:$L$580,'DVA '!E43)*-1) -> 241488.53 | G43: =ROUND(F43/1000,0) -> 241 | H43: =G43 -> 241 | I43: =IF(SUMIFS('Balancete 08.2023'!$I$7:$I$997,'Balancete 08.2023'!$L$7:$L$997,'DVA '!E43)>0,SUMIFS('Balancete 08.2023'!$I$7:$I$997,'Balancete 08.2023'!$L$7:$L$997,'DVA '!E43),SUMIFS('Balancete 08.2023'!$I$7:$I$997,'Balancete 08.2023'!$L$7:$L$997,'DVA '!E43)*-1) -> 297636.88 | J43: =ROUND(I43/1000,0) -> 298 | L43: 249
...

Sheet Teste de soma
A1: Descrição | C1: 30/06/2025 | D1: 45657
A2: A - Recursos do Tesouro Nacional (Conta Limite de Saque) | C2: 12452 | D2: 5552
A3: B - Recursos Próprios | C3: 38591 | D3: 38916
A4: Total | C4: =SUM(C2:C3) -> 51043 | D4: =SUM(D2:D3) -> 44468
C6: 51043 | D6: 44468
A8: Descrição | C8: 45838 | D8: 45657
A9: COFINS a Recuperar | C9: 2 | D9: 2
A10: IRPJ Estimativa 2025 | C10: 179 | D10: -
A11: CSLL Estimativa 2025 | C11: 67 | D11: -
A12: IRPJ Estimativa 2024 | C12: 604 | D12: 569
A13: CSLL Estimativa 2024 | C13: 205 | D13: 193
A14: IRPJ Estimativa 2023 | C14: 838 | D14: 794
A15: CSLL Estimativa 2023 | C15: 391 | D15: 370
A16: IRPJ Estimativa 2022 | C16: 150 | D16: 143
A17: IRPJ Estimativa 2021 | C17: 220 | D17: 210
A18: IR a Compensar – Pagamento a maior | C18: 26 | D18: 25
A19: CSLL a Compensar – Pagamento a maior | C19: 172 | D19: 164
A20: COSIRF | C20: 3 | D20: 2
A21: IRRF a Restituir | C21: 4 | D21: 4
A22: IRRF a Compensar | C22: 1050 | D22: 998
A23: ISS a Restituir | C23: 5 | D23: 5
A24: INSS a recuperar | C24: 1 | D24: -
A25: Total | C25: =SUM(C9:C24) -> 3917 | D25: =SUM(D9:D24) -> 3479
A27: Curto Prazo: | C27: 3917 | D27: 3479
A29: Descrição | C29: 45838 | D29: 45657
A30: IRPJ Estimativa | C30: 783 | D30: 1363
A31: CSLL Estimativa | C31: 272 | D31: 563
A32: Outros | C32: 1 | D32: -
A33: Total | C33: =SUM(C30:C32) -> 1056 | D33: =SUM(D30:D32) -> 1926
A35: Longo Prazo: | C35: 1056 | D35: 1926
A37: Descrição | C37: 45838 | D37: 45657
A38: IRPJ Estimativa | C38: 1208 | D38: 353
A39: CSLL Estimativa | C39: 391 | D39: -
A40: Contribuição social a compensar – pagamento a maior | C40: 172 | D40: 164
A41: IRRF a compensar | C41: 1050 | D41: 998
A42: Outros | C42: 40 | D42: 38
A43: Total | C43: =SUM(C38:C42) -> 2861 | D43: =SUM(D38:D42) -> 1553
C45: 2861 | D45: 1553
C47: 45838 | D47: 45657
A48: Adiantamento de Férias | C48: 206 | D48: 773
...

Sheet NE
A2: 4. Instrumentos Financeiros
A3: Ativos Financeiros | B3: =BP!F7 -> 46203 | D3: =BP!H7 -> 46022
A4: Custo amortizado
A5: Caixa e equivalentes | B5: =SUMIF('Balancete 06.2026'!C:C,111,'Balancete 06.2026'!K:K) -> 33419 | D5: =SUMIF('Balancete 06.2026'!C:C,111,'Balancete 06.2026'!E:E)/1000 -> 44516.807
B6: =SUM(B5) -> 33419 | D6: =SUM(D5) -> 44516.807
A7: T.Soma | B7: =B6-B5 -> 0 | D7: =D6-D5 -> 0
A8: T.Cruzamento | B8: =BP!F11-NE!B5 -> 0 | D8: =BP!H11-NE!D5 -> 0.19309
A10: Passivos Financeiros
A11: Custo amortizado
A12: Fornecedores | B12: =-SUMIF('Balancete 06.2026'!C:C,2114,'Balancete 06.2026'!K:K) -> 1165 | D12: =-SUMIF('Balancete 06.2026'!C:C,2114,'Balancete 06.2026'!E:E)/1000 -> 196.02361
A13: Arrendamentos | B13: =-SUMIF('Balancete 06.2026'!C:C,21116,'Balancete 06.2026'!K:K)-SUMIF('Balancete 06.2026'!C:C,2218,'Balancete 06.2026'!K:K) -> 13511 | D13: =-SUMIF('Balancete 06.2026'!C:C,21116,'Balancete 06.2026'!E:E)/1000-SUMIF('Balancete 06.2026'!C:C,2218,'Balancete 06.2026'!E:E)/1000 -> 15021.097
B14: =SUM(B12:B13) -> 14676 | D14: =SUM(D12:D13) -> 15217.12
A15: T.soma | B15: =B14-B12-B13 -> 0 | D15: =D14-D12-D13 -> 0
A16: T.Cruzamento | B16: =BP!F32+B13-NE!B12-BP!F38-BP!F43 -> 0 | D16: =D14-BP!H43-BP!H38-BP!H32 -> 0.12014
A18: 5. Caixa e equivalentes
A19: Descrição | C19: =BP!F7 -> 46203 | E19: =BP!H7 -> 46022
A20: A - Recursos do Tesouro Nacional | C20: 13646 | E20: =ROUND(7061430.6/1000,0) -> 7061
A21: B - Recursos Próprios | C21: 19773 | E21: 37456
A22: Total | C22: =SUM(C20:C21) -> 33419 | E22: =SUM(E20:E21) -> 44517
B23: T.Soma | C23: =SUM(C20,C21)-C22 -> 0 | E23: =SUM(E20,E21)-E22 -> 0
B24: T.Cruzamento | C24: =BP!F11-NE!C22 -> 0 | E24: =BP!H11-E22 -> 0
A26: 6.Tributos a recuperar ou compensáveis
A27: Descrição | C27: =BP!F7 -> 46203 | E27: =BP!H7 -> 46022
A28: COFINS a Recuperar | C28: =SUMIF('Balancete 06.2026'!C:C,12139,'Balancete 06.2026'!K:K)+SUMIF('Balancete 06.2026'!C:C,11239,'Balancete 06.2026'!K:K) -> 2 | E28: =ROUND(SUMIF('Balancete 06.2026'!C:C,12139,'Balancete 06.2026'!E:E)/1000,0) -> 2
A29: IRPJ Estimativa | C29: =SUMIF('Balancete 06.2026'!C:C,112316,'Balancete 06.2026'!K:K) -> 0 | E29: 0
A30: CSLL Estimativa | C30: =SUMIF('Balancete 06.2026'!C:C,112317,'Balancete 06.2026'!K:K) -> 0 | E30: 0
A31: IRPJ Estimativa 2025 | C31: =SUMIF('Balancete 06.2026'!C:C,112342,'Balancete 06.2026'!K:K) -> 191 | E31: =ROUND(SUMIF('Balancete 06.2026'!C:C,112316,'Balancete 06.2026'!E:E)/1000,0) -> 179
A32: CSLL Estimativa 2025 | C32: =SUMIF('Balancete 06.2026'!C:C,112343,'Balancete 06.2026'!K:K) -> 71 | E32: =ROUND(SUMIF('Balancete 06.2026'!C:C,112317,'Balancete 06.2026'!E:E)/1000,0) -> 67
A33: IRPJ Estimativa 2024 | C33: =SUMIF('Balancete 06.2026'!C:C,121320,'Balancete 06.2026'!K:K) -> 683 | E33: =ROUND(SUMIF('Balancete 06.2026'!C:C,112340,'Balancete 06.2026'!E:E)/1000,0) -> 645
A34: CSLL Estimativa 2024 | C34: =SUMIF('Balancete 06.2026'!C:C,121321,'Balancete 06.2026'!K:K) -> 231 | E34: =ROUND(SUMIF('Balancete 06.2026'!C:C,112341,'Balancete 06.2026'!E:E)/1000,0) -> 219
A35: IRPJ Estimativa 2023 | C35: =SUMIF('Balancete 06.2026'!C:C,121318,'Balancete 06.2026'!K:K) -> 693 | E35: 890
A36: CSLL Estimativa 2023 | C36: =SUMIF('Balancete 06.2026'!C:C,121319,'Balancete 06.2026'!K:K) -> 438 | E36: 415
A37: IRPJ Estimativa 2022 | C37: =SUMIF('Balancete 06.2026'!C:C,121315,'Balancete 06.2026'!K:K) -> 0 | E37: =ROUND(SUMIF('Balancete 06.2026'!C:C,121315,'Balancete 06.2026'!E:E)/1000,0) -> 143
A38: IRPJ Estimativa 2021 | C38: =SUMIF('Balancete 06.2026'!C:C,121313,'Balancete 06.2026'!K:K) -> 241 | E38: =ROUND(SUMIF('Balancete 06.2026'!C:C,121313,'Balancete 06.2026'!E:E)/1000,0) -> 231
A39: IR a compensar – pagamento a maior | C39: =SUMIF('Balancete 06.2026'!C:C,12131,'Balancete 06.2026'!K:K) -> 29 | E39: =ROUND(SUMIF('Balancete 06.2026'!C:C,12131,'Balancete 06.2026'!E:E)/1000,0) -> 28
A40: Contribuição social a compensar – pagamento a maior | C40: =SUMIF('Balancete 06.2026'!C:C,12135,'Balancete 06.2026'!K:K) -> 188 | E40: =ROUND(SUMIF('Balancete 06.2026'!C:C,12135,'Balancete 06.2026'!E:E)/1000,0) -> 180
A41: COSIRF a restituir | C41: =SUMIF('Balancete 06.2026'!C:C,121317,'Balancete 06.2026'!K:K)+SUMIF('Balancete 06.2026'!C:C,112334,'Balancete 06.2026'!K:K) -> 2 | E41: =ROUND(SUMIF('Balancete 06.2026'!C:C,121317,'Balancete 06.2026'!E:E)/1000,0) -> 2
A42: IRRF a restituir | C42: =SUMIF('Balancete 06.2026'!C:C,121311,'Balancete 06.2026'!K:K) -> 5 | E42: =ROUND(SUMIF('Balancete 06.2026'!C:C,121311,'Balancete 06.2026'!E:E)/1000,0) -> 5
A43: IRRF a compensar | C43: =SUMIF('Balancete 06.2026'!C:C,121316,'Balancete 06.2026'!K:K) -> 1167 | E43: =ROUND(SUMIF('Balancete 06.2026'!C:C,121316,'Balancete 06.2026'!E:E)/1000,0)-1 -> 1110
A44: PIS a restituir | C44: =SUMIF('Balancete 06.2026'!C:C,112327,'Balancete 06.2026'!K:K) -> 0 | E44: =SUMIF('Balancete 06.2026'!C:C,112333,'Balancete 06.2026'!E:E)/1000 -> 0
...

